{
 "currentVersion": 10.22,
 "serviceDescription": "Digital Elevation Model (DEM) mosaic derived from LIDAR data collected early 2010",
 "name": "Imagery/DEM_Mosaic2010",
 "description": "Digital Elevation Model (DEM) mosaic derived from LIDAR data collected early 2010",
 "extent": {
  "xmin": 1428253.7286241949,
  "ymin": 1405679.4846019298,
  "xmax": 1577722.7286241949,
  "ymax": 1537934.4846019298,
  "spatialReference": {
   "wkid": 2903,
   "latestWkid": 2903
  }
 },
 "initialExtent": {
  "xmin": 1428253.7286241949,
  "ymin": 1405679.4846019298,
  "xmax": 1577722.7286241949,
  "ymax": 1537934.4846019298,
  "spatialReference": {
   "wkid": 2903,
   "latestWkid": 2903
  }
 },
 "fullExtent": {
  "xmin": 1428253.7286241949,
  "ymin": 1405679.4846019298,
  "xmax": 1577722.7286241949,
  "ymax": 1537934.4846019298,
  "spatialReference": {
   "wkid": 2903,
   "latestWkid": 2903
  }
 },
 "pixelSizeX": 3,
 "pixelSizeY": 3,
 "bandCount": 1,
 "pixelType": "F32",
 "minPixelSize": 0,
 "maxPixelSize": 0,
 "copyrightText": "",
 "serviceDataType": "esriImageServiceDataTypeGeneric",
 "minValues": [
  4862.91015625
 ],
 "maxValues": [
  9207.591796875
 ],
 "meanValues": [
  5441.638184565625
 ],
 "stdvValues": [
  400.44601824219546
 ],
 "objectIdField": "",
 "fields": [],
 "capabilities": "Mensuration,Image,Metadata",
 "defaultMosaicMethod": "Center",
 "allowedMosaicMethods": "",
 "sortField": "",
 "sortValue": null,
 "mosaicOperator": "First",
 "defaultCompressionQuality": 75,
 "defaultResamplingMethod": "Bilinear",
 "maxImageHeight": 4100,
 "maxImageWidth": 15000,
 "allowRasterFunction": true,
 "rasterFunctionInfos": [],
 "rasterTypeInfos": [
  {
   "name": "Raster Dataset",
   "description": "Supports all ArcGIS Raster Datasets",
   "help": ""
  }
 ],
 "mensurationCapabilities": "Basic",
 "hasHistograms": true,
 "hasColormap": false,
 "hasRasterAttributeTable": false,
 "minScale": 0,
 "maxScale": 0,
 "exportTilesAllowed": false,
 "supportsStatistics": false,
 "supportsAdvancedQueries": false,
 "editFieldsInfo": null,
 "ownershipBasedAccessControlForRasters": null,
 "allowComputeTiePoints": false,
 "useStandardizedQueries": true,
 "spatialReference": {
  "wkid": 2903,
  "latestWkid": 2903
 }
}
