{
 "currentVersion": 10.22,
 "serviceDescription": "Hillshade created from 2010 Digital Elevation Model",
 "name": "Imagery/Hillshade_2010",
 "description": "Hillshade created from 2010 Digital Elevation Model",
 "extent": {
  "xmin": 1428253.7286241949,
  "ymin": 1405679.4846019298,
  "xmax": 1577722.7286241949,
  "ymax": 1537934.4846019298,
  "spatialReference": {
   "wkt": "PROJCS[\"NAD_1983_HARN_Transverse_Mercator\",GEOGCS[\"GCS_North_American_1983_HARN\",DATUM[\"D_North_American_1983_HARN\",SPHEROID[\"GRS_1980\",6378137.0,298.257222101]],PRIMEM[\"Greenwich\",0.0],UNIT[\"Degree\",0.0174532925199433]],PROJECTION[\"Transverse_Mercator\"],PARAMETER[\"False_Easting\",1640416.666666667],PARAMETER[\"False_Northing\",0.0],PARAMETER[\"Central_Meridian\",-106.25],PARAMETER[\"Scale_Factor\",0.9999],PARAMETER[\"Latitude_Of_Origin\",31.0],UNIT[\"Foot_US\",0.3048006096012192]]"
  }
 },
 "initialExtent": {
  "xmin": 1428253.7286241949,
  "ymin": 1405679.4846019298,
  "xmax": 1577722.7286241949,
  "ymax": 1537934.4846019298,
  "spatialReference": {
   "wkt": "PROJCS[\"NAD_1983_HARN_Transverse_Mercator\",GEOGCS[\"GCS_North_American_1983_HARN\",DATUM[\"D_North_American_1983_HARN\",SPHEROID[\"GRS_1980\",6378137.0,298.257222101]],PRIMEM[\"Greenwich\",0.0],UNIT[\"Degree\",0.0174532925199433]],PROJECTION[\"Transverse_Mercator\"],PARAMETER[\"False_Easting\",1640416.666666667],PARAMETER[\"False_Northing\",0.0],PARAMETER[\"Central_Meridian\",-106.25],PARAMETER[\"Scale_Factor\",0.9999],PARAMETER[\"Latitude_Of_Origin\",31.0],UNIT[\"Foot_US\",0.3048006096012192]]"
  }
 },
 "fullExtent": {
  "xmin": 1428253.7286241949,
  "ymin": 1405679.4846019298,
  "xmax": 1577722.7286241949,
  "ymax": 1537934.4846019298,
  "spatialReference": {
   "wkt": "PROJCS[\"NAD_1983_HARN_Transverse_Mercator\",GEOGCS[\"GCS_North_American_1983_HARN\",DATUM[\"D_North_American_1983_HARN\",SPHEROID[\"GRS_1980\",6378137.0,298.257222101]],PRIMEM[\"Greenwich\",0.0],UNIT[\"Degree\",0.0174532925199433]],PROJECTION[\"Transverse_Mercator\"],PARAMETER[\"False_Easting\",1640416.666666667],PARAMETER[\"False_Northing\",0.0],PARAMETER[\"Central_Meridian\",-106.25],PARAMETER[\"Scale_Factor\",0.9999],PARAMETER[\"Latitude_Of_Origin\",31.0],UNIT[\"Foot_US\",0.3048006096012192]]"
  }
 },
 "pixelSizeX": 3,
 "pixelSizeY": 3,
 "bandCount": 1,
 "pixelType": "S16",
 "minPixelSize": 0,
 "maxPixelSize": 0,
 "copyrightText": "",
 "serviceDataType": "esriImageServiceDataTypeGeneric",
 "minValues": [
  0
 ],
 "maxValues": [
  254
 ],
 "meanValues": [
  178.91870491132607
 ],
 "stdvValues": [
  15.630509077255539
 ],
 "objectIdField": "",
 "fields": [],
 "capabilities": "Mensuration,Image,Metadata",
 "defaultMosaicMethod": "Center",
 "allowedMosaicMethods": "",
 "sortField": "",
 "sortValue": null,
 "mosaicOperator": "First",
 "defaultCompressionQuality": 75,
 "defaultResamplingMethod": "Bilinear",
 "maxImageHeight": 4100,
 "maxImageWidth": 15000,
 "allowRasterFunction": true,
 "rasterFunctionInfos": [],
 "rasterTypeInfos": [
  {
   "name": "Raster Dataset",
   "description": "Supports all ArcGIS Raster Datasets",
   "help": ""
  }
 ],
 "mensurationCapabilities": "Basic",
 "hasHistograms": true,
 "hasColormap": false,
 "hasRasterAttributeTable": true,
 "minScale": 0,
 "maxScale": 0,
 "exportTilesAllowed": false,
 "supportsStatistics": false,
 "supportsAdvancedQueries": false,
 "editFieldsInfo": null,
 "ownershipBasedAccessControlForRasters": null,
 "allowComputeTiePoints": false,
 "useStandardizedQueries": true,
 "spatialReference": {
  "wkt": "PROJCS[\"NAD_1983_HARN_Transverse_Mercator\",GEOGCS[\"GCS_North_American_1983_HARN\",DATUM[\"D_North_American_1983_HARN\",SPHEROID[\"GRS_1980\",6378137.0,298.257222101]],PRIMEM[\"Greenwich\",0.0],UNIT[\"Degree\",0.0174532925199433]],PROJECTION[\"Transverse_Mercator\"],PARAMETER[\"False_Easting\",1640416.666666667],PARAMETER[\"False_Northing\",0.0],PARAMETER[\"Central_Meridian\",-106.25],PARAMETER[\"Scale_Factor\",0.9999],PARAMETER[\"Latitude_Of_Origin\",31.0],UNIT[\"Foot_US\",0.3048006096012192]]"
 }
}
