View In:
ArcGIS JavaScript
ArcGIS.com Map
Google Earth
ArcMap
View Footprint In:
ArcGIS.com Map
Service Description: 2010 aerial test for vertical measurement
ArcGIS Desktop users need to add the Image Analysis window to use 3D measurement capabilities.
Name: Imagery/Bernalillo2010
Description: 2010 aerial test for vertical measurement
ArcGIS Desktop users need to add the Image Analysis window to use 3D measurement capabilities.
Single Fused Map Cache: false
Extent:
XMin: 1355825.9998223297
YMin: 1405557.499850953
XMax: 1673946.9998210089
YMax: 1537934.4998504035
Spatial Reference: 2903
(2903)
Initial Extent:
XMin: 1355825.9998223297
YMin: 1405557.499850953
XMax: 1673946.9998210089
YMax: 1537934.4998504035
Spatial Reference: 2903
(2903)
Full Extent:
XMin: 1355825.9998223297
YMin: 1405557.499850953
XMax: 1673946.9998210089
YMax: 1537934.4998504035
Spatial Reference: 2903
(2903)
Pixel Size X: 0.499999999997924
Pixel Size Y: 0.49999999999792455
Band Count: 3
Pixel Type: U8
RasterFunction Infos: N/A
Mensuration Capabilities: Basic,3D
Has Histograms: true
Has Colormap: false
Min Scale: 0
Max Scale: 0
Copyright Text:
Service Data Type: esriImageServiceDataTypeRGB
Min Values: 0, 0, 0
Max Values: 255, 255, 255
Mean Values: 126.48908837926848, 120.77391126765242, 106.25793843629013
Standard Deviation Values: 39.43538224624971, 37.278544412671934, 33.633849328357776
Object ID Field: OBJECTID
Fields:
-
OBJECTID
(
type: esriFieldTypeOID
, alias: OBJECTID
)
-
Shape
(
type: esriFieldTypeGeometry
, alias: Shape
)
-
Name
(
type: esriFieldTypeString
, alias: Name
, length: 50
)
-
MinPS
(
type: esriFieldTypeDouble
, alias: MinPS
)
-
MaxPS
(
type: esriFieldTypeDouble
, alias: MaxPS
)
-
LowPS
(
type: esriFieldTypeDouble
, alias: LowPS
)
-
HighPS
(
type: esriFieldTypeDouble
, alias: HighPS
)
-
Category
(
type: esriFieldTypeInteger
, alias: Category
, Coded Values:
[0: Unknown]
, [1: Primary]
, [2: Overview]
, ...5 more...
)
-
Tag
(
type: esriFieldTypeString
, alias: Tag
, length: 20
)
-
GroupName
(
type: esriFieldTypeString
, alias: GroupName
, length: 50
)
-
ProductName
(
type: esriFieldTypeString
, alias: ProductName
, length: 50
)
-
CenterX
(
type: esriFieldTypeDouble
, alias: CenterX
)
-
CenterY
(
type: esriFieldTypeDouble
, alias: CenterY
)
-
ZOrder
(
type: esriFieldTypeInteger
, alias: ZOrder
)
-
Shape_Length
(
type: esriFieldTypeDouble
, alias: Shape_Length
)
-
Shape_Area
(
type: esriFieldTypeDouble
, alias: Shape_Area
)
Default Mosaic Method: Northwest
Allowed Mosaic Methods: NorthWest,Center,LockRaster,ByAttribute,Nadir,Viewpoint,Seamline,None
SortField:
SortValue: null
Mosaic Operator: First
Default Compression Quality: 75
Default Resampling Method: Bilinear
Max Record Count: 1000
Max Image Height: 4100
Max Image Width: 15000
Max Download Image Count: 20
Max Mosaic Image Count: 20
Allow Raster Function: true
Allow Compute TiePoints: false
Supports Statistics: true
Supports Advanced Queries: true
Use StandardizedQueries: true
Raster Type Infos:
Name: Raster Dataset
Description: Supports all ArcGIS Raster Datasets
Help:
Has Raster Attribute Table: false
Edit Fields Info: null
Ownership Based AccessControl For Rasters: null
Child Resources:
Info
Histograms
Key Properties
Legend
Supported Operations:
Export Image
Query
Identify
Measure
Compute Histograms
Get Samples
Compute Class Statistics