View In:
ArcGIS JavaScript
ArcGIS.com Map
Google Earth
ArcMap
View Footprint In:
ArcGIS.com Map
Service Description: Digital Elevation Model (DEM) mosaic derived from LIDAR data collected early 2010
Name: Imagery/DEM_Mosaic2010
Description: Digital Elevation Model (DEM) mosaic derived from LIDAR data collected early 2010
Single Fused Map Cache: false
Extent:
XMin: 1428253.7286241949
YMin: 1405679.4846019298
XMax: 1577722.7286241949
YMax: 1537934.4846019298
Spatial Reference: 2903
(2903)
Initial Extent:
XMin: 1428253.7286241949
YMin: 1405679.4846019298
XMax: 1577722.7286241949
YMax: 1537934.4846019298
Spatial Reference: 2903
(2903)
Full Extent:
XMin: 1428253.7286241949
YMin: 1405679.4846019298
XMax: 1577722.7286241949
YMax: 1537934.4846019298
Spatial Reference: 2903
(2903)
Pixel Size X: 3.0
Pixel Size Y: 3.0
Band Count: 1
Pixel Type: F32
RasterFunction Infos: N/A
Mensuration Capabilities: Basic
Has Histograms: true
Has Colormap: false
Min Scale: 0
Max Scale: 0
Copyright Text:
Service Data Type: esriImageServiceDataTypeGeneric
Min Values: 4862.91015625
Max Values: 9207.591796875
Mean Values: 5441.638184565625
Standard Deviation Values: 400.44601824219546
Object ID Field:
Fields:
None
Default Mosaic Method: Center
Allowed Mosaic Methods:
SortField:
SortValue: null
Mosaic Operator: First
Default Compression Quality: 75
Default Resampling Method: Bilinear
Max Record Count: null
Max Image Height: 4100
Max Image Width: 15000
Max Download Image Count: null
Max Mosaic Image Count: null
Allow Raster Function: true
Allow Compute TiePoints: false
Supports Statistics: false
Supports Advanced Queries: false
Use StandardizedQueries: true
Raster Type Infos:
Name: Raster Dataset
Description: Supports all ArcGIS Raster Datasets
Help:
Has Raster Attribute Table: false
Edit Fields Info: null
Ownership Based AccessControl For Rasters: null
Child Resources:
Info
Histograms
Key Properties
Legend
Supported Operations:
Export Image
Identify
Measure
Compute Histograms
Get Samples
Compute Class Statistics