View In:
ArcGIS JavaScript
ArcGIS.com Map
Google Earth
ArcMap
View Footprint In:
ArcGIS.com Map
Service Description: Hillshade created from 2010 Digital Elevation Model
Name: Imagery/Hillshade_2010
Description: Hillshade created from 2010 Digital Elevation Model
Single Fused Map Cache: false
Extent:
XMin: 1428253.7286241949
YMin: 1405679.4846019298
XMax: 1577722.7286241949
YMax: 1537934.4846019298
Spatial Reference: PROJCS["NAD_1983_HARN_Transverse_Mercator",GEOGCS["GCS_North_American_1983_HARN",DATUM["D_North_American_1983_HARN",SPHEROID["GRS_1980",6378137.0,298.257222101]],PRIMEM["Greenwich",0.0],UNIT["Degree",0.0174532925199433]],PROJECTION["Transverse_Mercator"],PARAMETER["False_Easting",1640416.666666667],PARAMETER["False_Northing",0.0],PARAMETER["Central_Meridian",-106.25],PARAMETER["Scale_Factor",0.9999],PARAMETER["Latitude_Of_Origin",31.0],UNIT["Foot_US",0.3048006096012192]]
Initial Extent:
XMin: 1428253.7286241949
YMin: 1405679.4846019298
XMax: 1577722.7286241949
YMax: 1537934.4846019298
Spatial Reference: PROJCS["NAD_1983_HARN_Transverse_Mercator",GEOGCS["GCS_North_American_1983_HARN",DATUM["D_North_American_1983_HARN",SPHEROID["GRS_1980",6378137.0,298.257222101]],PRIMEM["Greenwich",0.0],UNIT["Degree",0.0174532925199433]],PROJECTION["Transverse_Mercator"],PARAMETER["False_Easting",1640416.666666667],PARAMETER["False_Northing",0.0],PARAMETER["Central_Meridian",-106.25],PARAMETER["Scale_Factor",0.9999],PARAMETER["Latitude_Of_Origin",31.0],UNIT["Foot_US",0.3048006096012192]]
Full Extent:
XMin: 1428253.7286241949
YMin: 1405679.4846019298
XMax: 1577722.7286241949
YMax: 1537934.4846019298
Spatial Reference: PROJCS["NAD_1983_HARN_Transverse_Mercator",GEOGCS["GCS_North_American_1983_HARN",DATUM["D_North_American_1983_HARN",SPHEROID["GRS_1980",6378137.0,298.257222101]],PRIMEM["Greenwich",0.0],UNIT["Degree",0.0174532925199433]],PROJECTION["Transverse_Mercator"],PARAMETER["False_Easting",1640416.666666667],PARAMETER["False_Northing",0.0],PARAMETER["Central_Meridian",-106.25],PARAMETER["Scale_Factor",0.9999],PARAMETER["Latitude_Of_Origin",31.0],UNIT["Foot_US",0.3048006096012192]]
Pixel Size X: 3.0
Pixel Size Y: 3.0
Band Count: 1
Pixel Type: S16
RasterFunction Infos: N/A
Mensuration Capabilities: Basic
Has Histograms: true
Has Colormap: false
Min Scale: 0
Max Scale: 0
Copyright Text:
Service Data Type: esriImageServiceDataTypeGeneric
Min Values: 0
Max Values: 254
Mean Values: 178.91870491132607
Standard Deviation Values: 15.630509077255539
Object ID Field:
Fields:
None
Default Mosaic Method: Center
Allowed Mosaic Methods:
SortField:
SortValue: null
Mosaic Operator: First
Default Compression Quality: 75
Default Resampling Method: Bilinear
Max Record Count: null
Max Image Height: 4100
Max Image Width: 15000
Max Download Image Count: null
Max Mosaic Image Count: null
Allow Raster Function: true
Allow Compute TiePoints: false
Supports Statistics: false
Supports Advanced Queries: false
Use StandardizedQueries: true
Raster Type Infos:
Name: Raster Dataset
Description: Supports all ArcGIS Raster Datasets
Help:
Has Raster Attribute Table: true
Edit Fields Info: null
Ownership Based AccessControl For Rasters: null
Child Resources:
Info
Raster Attribute Table
Histograms
Key Properties
Legend
Supported Operations:
Export Image
Identify
Measure
Compute Histograms
Get Samples
Compute Class Statistics